BEGIN:VCALENDAR
VERSION:2.0
PRODID:-//ActiveBury//Events//EN
CALSCALE:GREGORIAN
BEGIN:VEVENT
UID:event-234@activebury.com
DTSTAMP:20260425T133329Z
SUMMARY:Preschool Playgroup
DTSTART:20260226T103000
DTEND:20260226T113000
LOCATION:Paul S. Sarbanes Branch
DESCRIPTION:This event is in the "Ages 0-5" group 10:30am–11:30am Ages 0-5 Paul S. Sarbanes Branch Closed Registration Available This event is in the "Ages 0-5" group Feb 26 2026 Thu Preschool Playgroup 10:30am–11:30am Paul S. Sarbanes Branch Closed Please note you are looking at an event that has already happened. Paul S. Sarbanes Branch Children's Program Room Ages 0-5 Other Registration Available At a Glance:\nMore info: https://www.wicomicolibrary.org/event/preschool-playgroup-21510\nActiveBury: https://www.activebury.com/events/234
URL:https://www.activebury.com/events/234
END:VEVENT
END:VCALENDAR
