BEGIN:VCALENDAR
VERSION:2.0
PRODID:-//ActiveBury//Events//EN
CALSCALE:GREGORIAN
BEGIN:VEVENT
UID:event-233@activebury.com
DTSTAMP:20260425T133248Z
SUMMARY:Fruitland Primary School
DTSTART:20260226T091500
DTEND:20260226T153000
LOCATION:Bookmobile
DESCRIPTION:This event is in the "Everyone" group 9:15am–3:30pm Everyone Bookmobile Offsite Event This event is in the "Everyone" group Feb 26 2026 Thu Fruitland Primary School 9:15am–3:30pm Bookmobile Please note you are looking at an event that has already happened. Bookmobile Everyone 301 N. Division St.\nMore info: https://www.wicomicolibrary.org/event/fruitland-primary-school-20199\nActiveBury: https://www.activebury.com/events/233
URL:https://www.activebury.com/events/233
END:VEVENT
END:VCALENDAR
