BEGIN:VCALENDAR
VERSION:2.0
PRODID:-//ActiveBury//Events//EN
CALSCALE:GREGORIAN
BEGIN:VEVENT
UID:event-2323@activebury.com
DTSTAMP:20260425T133943Z
SUMMARY:Skills to Succeed at Work
DTSTART:20260408T120000
DTEND:20260408T130000
LOCATION:Offsite - See Description Audience: Adults Categories: Career Building
DESCRIPTION:Join us at Maryland's Coast: Worcester County Tourism and Economic Development and learn about the soft skills that get you hired\, work well with others\, and grow. Please register Here This event is in partnership with Worcester County Tourism and Economic Development. We will meet at Maryland's Coast: 107 W. Green Street\, Snow Hill\, 21863.\nMore info: https://worcesterlibrary.libcal.com/event/16533562?hs=a\nActiveBury: https://www.activebury.com/events/2323
URL:https://www.activebury.com/events/2323
END:VEVENT
END:VCALENDAR
