BEGIN:VCALENDAR
VERSION:2.0
PRODID:-//ActiveBury//Events//EN
CALSCALE:GREGORIAN
BEGIN:VEVENT
UID:event-2322@activebury.com
DTSTAMP:20260425T152910Z
SUMMARY:Petals & Paste: A Spring Texture Art Class
DTSTART:20260316T180000
DTEND:20260316T190000
LOCATION:Pocomoke Branch Branch: Pocomoke Branch Audience: Adults Categories: Arts Class/Workshop
DESCRIPTION:Enjoy a calming\, colorful evening of artmaking with Carlena Jelley from Cypress Moon Art Studio. Craft dimensional spring florals using acrylic paint and molding paste. Learn simple techniques to create floral texture\, depth\, and movement. Teens also welcome. Limit 12.\nMore info: https://worcesterlibrary.libcal.com/event/15963723?hs=a\nActiveBury: https://www.activebury.com/events/2322
URL:https://www.activebury.com/events/2322
END:VEVENT
END:VCALENDAR
