BEGIN:VCALENDAR
VERSION:2.0
PRODID:-//ActiveBury//Events//EN
CALSCALE:GREGORIAN
BEGIN:VEVENT
UID:event-2317@activebury.com
DTSTAMP:20260425T133956Z
SUMMARY:Anime and Manga Club
DTSTART:20260314T140000
DTEND:20260314T150000
LOCATION:Ocean City Branch Branch: Ocean City Branch Audience: 12 to 18 Categories: Discussion Film/Movie
DESCRIPTION:Calling all anime fans! Stop by the Ocean City library to discuss all things anime and meet like-minded people. Best for ages 12-18. 410-524-1818\nMore info: https://worcesterlibrary.libcal.com/event/15929870?hs=a\nActiveBury: https://www.activebury.com/events/2317
URL:https://www.activebury.com/events/2317
END:VEVENT
END:VCALENDAR
