BEGIN:VCALENDAR
VERSION:2.0
PRODID:-//ActiveBury//Events//EN
CALSCALE:GREGORIAN
BEGIN:VEVENT
UID:event-2312@activebury.com
DTSTAMP:20260425T183012Z
SUMMARY:Cousins Maine Lobster
DTSTART:20260326T110000
DTEND:20260326T180000
LOCATION:The Mill of Whiteford Address: 2422 Whiteford Rd\, Whiteford\, MD 21160 We’re excited to welcome Cousins Maine Lobster to The Mill of Whiteford on Thursday\, March 26 ! 🦞 Cousins Maine Lobster Food Truck
DESCRIPTION:We’re excited to welcome Cousins Maine Lobster to The Mill of Whiteford on Thursday\, March 26 !\n\n🦞 Cousins Maine Lobster Food Truck 📍 The Mill of Whiteford ⏰ 11:00 AM – 6:00 PM\n\nStop by and enjoy authentic Maine lobster rolls\, tacos\, and other seafood favorites while you shop or spend the day at The Mill. It’s a great opportunity to grab a delicious meal and support a visiting food truck.\n\nBring your friends\, family\, and coworkers and enjoy a great day of food and community at The Mill of Whiteford .\n\nWe look forward to seeing you there!\nMore info: https://www.themillstores.com/pages/events/cousins-maine-lobster\nActiveBury: https://www.activebury.com/events/2312
URL:https://www.activebury.com/events/2312
END:VEVENT
END:VCALENDAR
