BEGIN:VCALENDAR
VERSION:2.0
PRODID:-//ActiveBury//Events//EN
CALSCALE:GREGORIAN
BEGIN:VEVENT
UID:event-231@activebury.com
DTSTAMP:20260425T133301Z
SUMMARY:Northwestern School
DTSTART:20260225T090000
DTEND:20260225T150000
LOCATION:Bookmobile
DESCRIPTION:This event is in the "Everyone" group 9:00am–3:00pm Everyone Bookmobile Offsite Event This event is in the "Everyone" group Feb 25 2026 Wed Northwestern School 9:00am–3:00pm Bookmobile Please note you are looking at an event that has already happened. Bookmobile Everyone 9975 Sharptown Rd.\nMore info: https://www.wicomicolibrary.org/event/northwestern-school-20190\nActiveBury: https://www.activebury.com/events/231
URL:https://www.activebury.com/events/231
END:VEVENT
END:VCALENDAR
