BEGIN:VCALENDAR
VERSION:2.0
PRODID:-//ActiveBury//Events//EN
CALSCALE:GREGORIAN
BEGIN:VEVENT
UID:event-2309@activebury.com
DTSTAMP:20260425T134006Z
SUMMARY:St Patrick's Day 5K\, 1M\, 200M Fun Run
DTSTART:20260314T090000
DTEND:20260314T100000
LOCATION:107 South 4th Street\, Denton MD
DESCRIPTION:THE HISTORY:  This is the 18th Annual St. Paddy's Race 5K.  The event was developed to help raise money so families could afford to send their children to  summer camp and programs.\nMore info: https://www.esrclub.org/events/2026/3/14/st-patricks-day-5k-1m-200m\nActiveBury: https://www.activebury.com/events/2309
URL:https://www.activebury.com/events/2309
END:VEVENT
END:VCALENDAR
