BEGIN:VCALENDAR
VERSION:2.0
PRODID:-//ActiveBury//Events//EN
CALSCALE:GREGORIAN
BEGIN:VEVENT
UID:event-2305@activebury.com
DTSTAMP:20260425T134536Z
SUMMARY:Movie Showing: The Big Lebowski
DTSTART:20260313T140000
DTEND:20260313T160000
LOCATION:Ocean City Meeting Room Branch: Ocean City Branch Audience: Adults Categories: Film/Movie
DESCRIPTION:Come to the library and enjoy a cult classic. 410-524-1818\nMore info: https://worcesterlibrary.libcal.com/event/15885691?hs=a\nActiveBury: https://www.activebury.com/events/2305
URL:https://www.activebury.com/events/2305
END:VEVENT
END:VCALENDAR
