BEGIN:VCALENDAR
VERSION:2.0
PRODID:-//ActiveBury//Events//EN
CALSCALE:GREGORIAN
BEGIN:VEVENT
UID:event-2304@activebury.com
DTSTAMP:20260425T133413Z
SUMMARY:Daggerheart: Sablewood
DTSTART:20260328T143000
DTEND:20260328T163000
LOCATION:Centre Branch
DESCRIPTION:This event is in the "Ages 18+" group 2:30pm–4:30pm Ages 18+ Centre Branch Open Registration Available This event is in the "Ages 18+" group Mar 28 2026 Sat Daggerheart: Sablewood 2:30pm–4:30pm Centre Branch Open Centre Branch The Space at Centre Ages 18+ Games Registration Available A continuation of Page to Play! We can't wait to see what adventures lie at the Titan's Steps for our adventuring party!\nMore info: https://www.wicomicolibrary.org/event/daggerheart-sablewood-24049\nActiveBury: https://www.activebury.com/events/2304
URL:https://www.activebury.com/events/2304
END:VEVENT
END:VCALENDAR
