BEGIN:VCALENDAR
VERSION:2.0
PRODID:-//ActiveBury//Events//EN
CALSCALE:GREGORIAN
BEGIN:VEVENT
UID:event-2303@activebury.com
DTSTAMP:20260425T133413Z
SUMMARY:Baby Time
DTSTART:20260610T100000
DTEND:20260610T103000
LOCATION:Ocean Pines Large Meeting Room Branch: Ocean Pines Branch Audience: Birth to 5 Categories: Music and Movement
DESCRIPTION:Join us for songs\, stories and giggles!For ages 0-2. 410-208-4014\nMore info: https://worcesterlibrary.libcal.com/event/14691327?hs=a\nActiveBury: https://www.activebury.com/events/2303
URL:https://www.activebury.com/events/2303
END:VEVENT
END:VCALENDAR
