BEGIN:VCALENDAR
VERSION:2.0
PRODID:-//ActiveBury//Events//EN
CALSCALE:GREGORIAN
BEGIN:VEVENT
UID:event-2302@activebury.com
DTSTAMP:20260425T133309Z
SUMMARY:Library Board Meeting
DTSTART:20260609T093000
DTEND:20260609T113000
LOCATION:Pocomoke Branch Branch: Pocomoke Branch Audience: Adults Categories: Board of Trustees Meetings
DESCRIPTION:All meetings are open to the public.\nMore info: https://worcesterlibrary.libcal.com/event/16032892?hs=a\nActiveBury: https://www.activebury.com/events/2302
URL:https://www.activebury.com/events/2302
END:VEVENT
END:VCALENDAR
