BEGIN:VCALENDAR
VERSION:2.0
PRODID:-//ActiveBury//Events//EN
CALSCALE:GREGORIAN
BEGIN:VEVENT
UID:event-2297@activebury.com
DTSTAMP:20260425T133832Z
SUMMARY:Homeschool Inventor Fair
DTSTART:20260508T130000
DTEND:20260508T150000
LOCATION:Offsite - See Description Branch: Snow Hill Branch Audience: Families Categories: Class/Workshop
DESCRIPTION:Young creators are invited to showcase their original inventions and imaginative ideas at our Homeschool Inventors Fair. It can be a clever gadget\, a hands-on experiment\, or a brand-new concept! Families can view student exhibits\, ask questions\, and cheer on the next generation of inventors. Showcase and reception from 1-2 pm with awards and prize drawings at 2:30. Light refreshments will be served. The program will be held at the Snow Hill Train Station on Belt St.\nMore info: https://worcesterlibrary.libcal.com/event/15729395?hs=a\nActiveBury: https://www.activebury.com/events/2297
URL:https://www.activebury.com/events/2297
END:VEVENT
END:VCALENDAR
