BEGIN:VCALENDAR
VERSION:2.0
PRODID:-//ActiveBury//Events//EN
CALSCALE:GREGORIAN
BEGIN:VEVENT
UID:event-2296@activebury.com
DTSTAMP:20260425T133328Z
SUMMARY:Survival Spanish: Kitchenware
DTSTART:20260508T130000
DTEND:20260508T140000
LOCATION:Ocean Pines Large Meeting Room Branch: Ocean Pines Branch Audience: Adults Categories: Class/Workshop
DESCRIPTION:Ever wanted to learn another language? Now's your chance! Join us as we learn vocabulary for things you can find around the kitchen. 410-208-4014\nMore info: https://worcesterlibrary.libcal.com/event/15433767?hs=a\nActiveBury: https://www.activebury.com/events/2296
URL:https://www.activebury.com/events/2296
END:VEVENT
END:VCALENDAR
