BEGIN:VCALENDAR
VERSION:2.0
PRODID:-//ActiveBury//Events//EN
CALSCALE:GREGORIAN
BEGIN:VEVENT
UID:event-2291@activebury.com
DTSTAMP:20260425T133830Z
SUMMARY:Paint Like an Artist
DTSTART:20260507T163000
DTEND:20260507T173000
LOCATION:Ocean Pines Large Meeting Room Branch: Ocean Pines Branch Audience: 12 to 18 Categories: Crafts
DESCRIPTION:Learn about watercolors and how artist Georgia O'Keefe used them in her famous flower paintings\, then create your own! For tweens and teens. 410-208-0414\nMore info: https://worcesterlibrary.libcal.com/event/14931261?hs=a\nActiveBury: https://www.activebury.com/events/2291
URL:https://www.activebury.com/events/2291
END:VEVENT
END:VCALENDAR
