BEGIN:VCALENDAR
VERSION:2.0
PRODID:-//ActiveBury//Events//EN
CALSCALE:GREGORIAN
BEGIN:VEVENT
UID:event-229@activebury.com
DTSTAMP:20260425T133258Z
SUMMARY:Westside Community Center
DTSTART:20260224T140000
DTEND:20260224T150000
LOCATION:Bookmobile
DESCRIPTION:This event is in the "Everyone" group 2:00pm–3:00pm Everyone Bookmobile Offsite Event This event is in the "Everyone" group Feb 24 2026 Tue Westside Community Center 2:00pm–3:00pm Bookmobile Please note you are looking at an event that has already happened. Bookmobile Everyone 21109 Bivalve Lodge Road\, Bivalve\nMore info: https://www.wicomicolibrary.org/event/westside-community-center-20210\nActiveBury: https://www.activebury.com/events/229
URL:https://www.activebury.com/events/229
END:VEVENT
END:VCALENDAR
