BEGIN:VCALENDAR
VERSION:2.0
PRODID:-//ActiveBury//Events//EN
CALSCALE:GREGORIAN
BEGIN:VEVENT
UID:event-2286@activebury.com
DTSTAMP:20260425T133826Z
SUMMARY:Story Time "Big Fat Hen"
DTSTART:20260507T103000
DTEND:20260507T113000
LOCATION:Snow Hill Meeting Room Branch: Snow Hill Branch Audience: Birth to 5 Categories: Storytime
DESCRIPTION:Join us for stories\, songs\, and rhymes. Stay to play and socialize. For 2 to 5 year old children.\nMore info: https://worcesterlibrary.libcal.com/event/15954194?hs=a\nActiveBury: https://www.activebury.com/events/2286
URL:https://www.activebury.com/events/2286
END:VEVENT
END:VCALENDAR
