BEGIN:VCALENDAR
VERSION:2.0
PRODID:-//ActiveBury//Events//EN
CALSCALE:GREGORIAN
BEGIN:VEVENT
UID:event-2285@activebury.com
DTSTAMP:20260425T133308Z
SUMMARY:Star Wars Scavenger Hunt
DTSTART:20260507T090000
DTEND:20260507T170000
LOCATION:Ocean Pines Branch Branch: Ocean Pines Branch Audience: 6 to 11 Families Categories: Games
DESCRIPTION:May the force be with you as you hunt down the rebels and discover the clues to the riddle! Ages 6-11. 410-208-4014\nMore info: https://worcesterlibrary.libcal.com/event/15999715?hs=a\nActiveBury: https://www.activebury.com/events/2285
URL:https://www.activebury.com/events/2285
END:VEVENT
END:VCALENDAR
