BEGIN:VCALENDAR
VERSION:2.0
PRODID:-//ActiveBury//Events//EN
CALSCALE:GREGORIAN
BEGIN:VEVENT
UID:event-2282@activebury.com
DTSTAMP:20260425T133307Z
SUMMARY:MD 250 Event: Calligraphy Workshop
DTSTART:20260506T140000
DTEND:20260506T160000
LOCATION:Ocean Pines Large Meeting Room Branch: Ocean Pines Branch Audience: Adults Categories: Class/Workshop
DESCRIPTION:Learn basic calligraphy from White House trained Calligrapher Anne Taylor.\nMore info: https://worcesterlibrary.libcal.com/event/15701718?hs=a\nActiveBury: https://www.activebury.com/events/2282
URL:https://www.activebury.com/events/2282
END:VEVENT
END:VCALENDAR
