BEGIN:VCALENDAR
VERSION:2.0
PRODID:-//ActiveBury//Events//EN
CALSCALE:GREGORIAN
BEGIN:VEVENT
UID:event-2278@activebury.com
DTSTAMP:20260425T133420Z
SUMMARY:Cinco de Mayo
DTSTART:20260505T163000
DTEND:20260505T173000
LOCATION:Ocean Pines Large Meeting Room Branch: Ocean Pines Branch Audience: 12 to 18 6 to 11 Categories: Crafts Farm To Library
DESCRIPTION:Come hungry and ready to dance! Learn about Cinco de Mayo\, create a maraca and make a delicious hispanic dish! Ages 8 and up. 410-208-4014\nMore info: https://worcesterlibrary.libcal.com/event/14931191?hs=a\nActiveBury: https://www.activebury.com/events/2278
URL:https://www.activebury.com/events/2278
END:VEVENT
END:VCALENDAR
