BEGIN:VCALENDAR
VERSION:2.0
PRODID:-//ActiveBury//Events//EN
CALSCALE:GREGORIAN
BEGIN:VEVENT
UID:event-2276@activebury.com
DTSTAMP:20260425T134343Z
SUMMARY:Unleash Your Creativity: An Introduction to Jewelry Making
DTSTART:20260505T140000
DTEND:20260505T153000
LOCATION:Ocean City Meeting Room Branch: Ocean City Branch Audience: Adults Categories: Arts
DESCRIPTION:Embark on your jewelry-making journey with this hands-on workshop for beginners. Learn the foundational techniques of creating your own wearable art.\nMore info: https://worcesterlibrary.libcal.com/event/15843965?hs=a\nActiveBury: https://www.activebury.com/events/2276
URL:https://www.activebury.com/events/2276
END:VEVENT
END:VCALENDAR
