BEGIN:VCALENDAR
VERSION:2.0
PRODID:-//ActiveBury//Events//EN
CALSCALE:GREGORIAN
BEGIN:VEVENT
UID:event-2275@activebury.com
DTSTAMP:20260425T134408Z
SUMMARY:Cinco de Mayo with Casita Linda
DTSTART:20260505T140000
DTEND:20260505T150000
LOCATION:Ocean Pines Large Meeting Room Branch: Ocean Pines Branch Audience: Adults Categories: Farm To Library
DESCRIPTION:Join us as Michelle from Casita Linda demonstrates how to make a Mexican dish. 410-208-4014\nMore info: https://worcesterlibrary.libcal.com/event/15988627?hs=a\nActiveBury: https://www.activebury.com/events/2275
URL:https://www.activebury.com/events/2275
END:VEVENT
END:VCALENDAR
