BEGIN:VCALENDAR
VERSION:2.0
PRODID:-//ActiveBury//Events//EN
CALSCALE:GREGORIAN
BEGIN:VEVENT
UID:event-2274@activebury.com
DTSTAMP:20260425T143619Z
SUMMARY:Master Gardeners Plant Clinic
DTSTART:20260505T130000
DTEND:20260505T160000
LOCATION:Ocean Pines Branch: Ocean Pines Branch Audience: Adults Categories: Class/Workshop
DESCRIPTION:Bring any questions you have and feel free to show your plants as well. 410-208-4014.\nMore info: https://worcesterlibrary.libcal.com/event/14827886?hs=a\nActiveBury: https://www.activebury.com/events/2274
URL:https://www.activebury.com/events/2274
END:VEVENT
END:VCALENDAR
