BEGIN:VCALENDAR
VERSION:2.0
PRODID:-//ActiveBury//Events//EN
CALSCALE:GREGORIAN
BEGIN:VEVENT
UID:event-2272@activebury.com
DTSTAMP:20260425T133308Z
SUMMARY:Baby Time
DTSTART:20260505T103000
DTEND:20260505T113000
LOCATION:Snow Hill Meeting Room Branch: Snow Hill Branch Audience: Birth to 5 Categories: Storytime Summer Reading
DESCRIPTION:Babies under 2 & caregivers join us for songs\, rhymes\, and stories! Stay after to socialize with other families.\nMore info: https://worcesterlibrary.libcal.com/event/15865354?hs=a\nActiveBury: https://www.activebury.com/events/2272
URL:https://www.activebury.com/events/2272
END:VEVENT
END:VCALENDAR
