BEGIN:VCALENDAR
VERSION:2.0
PRODID:-//ActiveBury//Events//EN
CALSCALE:GREGORIAN
BEGIN:VEVENT
UID:event-227@activebury.com
DTSTAMP:20260425T182254Z
SUMMARY:Westside Primary School
DTSTART:20260224T091500
DTEND:20260224T134500
LOCATION:Bookmobile
DESCRIPTION:This event is in the "Everyone" group 9:15am–1:45pm Everyone Bookmobile Offsite Event This event is in the "Everyone" group Feb 24 2026 Tue Westside Primary School 9:15am–1:45pm Bookmobile Please note you are looking at an event that has already happened. Bookmobile Everyone 600 Quantico Rd.\, Quantico\nMore info: https://www.wicomicolibrary.org/event/westside-primary-school-20181\nActiveBury: https://www.activebury.com/events/227
URL:https://www.activebury.com/events/227
END:VEVENT
END:VCALENDAR
