BEGIN:VCALENDAR
VERSION:2.0
PRODID:-//ActiveBury//Events//EN
CALSCALE:GREGORIAN
BEGIN:VEVENT
UID:event-2268@activebury.com
DTSTAMP:20260425T134358Z
SUMMARY:Teen Time: Dinosaur Eyes
DTSTART:20260504T153000
DTEND:20260504T180000
LOCATION:Ocean Pines Branch Branch: Ocean Pines Branch Audience: 12 to 18 Categories: Crafts
DESCRIPTION:Create your own dinosaur eye using glass eyes and air clay! For ages 10-18. 410-208-4014\nMore info: https://worcesterlibrary.libcal.com/event/15979651?hs=a\nActiveBury: https://www.activebury.com/events/2268
URL:https://www.activebury.com/events/2268
END:VEVENT
END:VCALENDAR
