BEGIN:VCALENDAR
VERSION:2.0
PRODID:-//ActiveBury//Events//EN
CALSCALE:GREGORIAN
BEGIN:VEVENT
UID:event-2267@activebury.com
DTSTAMP:20260425T133330Z
SUMMARY:Great Books Discussion
DTSTART:20260504T143000
DTEND:20260504T160000
LOCATION:Ocean Pines Conference Room Branch: Ocean Pines Branch Audience: Adults Categories: Discussion
DESCRIPTION:We meet once a month to discuss selections from the Great Books Foundation. Today we are reading Bartleby the Scrivener by Herman Melville. 410-208-4014.\nMore info: https://worcesterlibrary.libcal.com/event/14903747?hs=a\nActiveBury: https://www.activebury.com/events/2267
URL:https://www.activebury.com/events/2267
END:VEVENT
END:VCALENDAR
