BEGIN:VCALENDAR
VERSION:2.0
PRODID:-//ActiveBury//Events//EN
CALSCALE:GREGORIAN
BEGIN:VEVENT
UID:event-2265@activebury.com
DTSTAMP:20260425T154001Z
SUMMARY:Movie Matinee: Star Wars: The Original Trilogy
DTSTART:20260504T100000
DTEND:20260504T180000
LOCATION:Ocean Pines Large Meeting Room Branch: Ocean Pines Branch Audience: Families Categories: Film/Movie
DESCRIPTION:Join us on May the 4th for a triple feature of the original classic trilogy\, as they appeared in theaters. 410-208-4014.\nMore info: https://worcesterlibrary.libcal.com/event/13603620?hs=a\nActiveBury: https://www.activebury.com/events/2265
URL:https://www.activebury.com/events/2265
END:VEVENT
END:VCALENDAR
