BEGIN:VCALENDAR
VERSION:2.0
PRODID:-//ActiveBury//Events//EN
CALSCALE:GREGORIAN
BEGIN:VEVENT
UID:event-2264@activebury.com
DTSTAMP:20260425T133828Z
SUMMARY:These Aren't the Droids You're Looking For
DTSTART:20260504T100000
DTEND:20260504T160000
LOCATION:Pocomoke Branch Branch: Pocomoke Branch Audience: Adults Categories: Crafts Games
DESCRIPTION:Go about your business and move along through the library to find the missing droids through a series of puzzles and activities. . 410-957-0878.\nMore info: https://worcesterlibrary.libcal.com/event/15878878?hs=a\nActiveBury: https://www.activebury.com/events/2264
URL:https://www.activebury.com/events/2264
END:VEVENT
END:VCALENDAR
