BEGIN:VCALENDAR
VERSION:2.0
PRODID:-//ActiveBury//Events//EN
CALSCALE:GREGORIAN
BEGIN:VEVENT
UID:event-2262@activebury.com
DTSTAMP:20260425T144318Z
SUMMARY:Wellness Walk at Milburn Landing State Park
DTSTART:20260502T140000
DTEND:20260502T160000
LOCATION:Pocomoke Surrounding area Branch: Pocomoke Branch Audience: Adults Categories: Health/Wellness
DESCRIPTION:Join us for a walk in the woods as we explore simple mindfulness practices that engage your senses and help you to restore and refocus. Registration Necessary. 410-957-0878\nMore info: https://worcesterlibrary.libcal.com/event/15993097?hs=a\nActiveBury: https://www.activebury.com/events/2262
URL:https://www.activebury.com/events/2262
END:VEVENT
END:VCALENDAR
