BEGIN:VCALENDAR
VERSION:2.0
PRODID:-//ActiveBury//Events//EN
CALSCALE:GREGORIAN
BEGIN:VEVENT
UID:event-2261@activebury.com
DTSTAMP:20260425T182852Z
SUMMARY:My Tech Clinic
DTSTART:20260502T110000
DTEND:20260502T143000
LOCATION:Ocean Pines Conference Room Audience: Adults Categories: Technology
DESCRIPTION:Stop by and ask questions related to your devices and technology services.\nMore info: https://worcesterlibrary.libcal.com/event/15823228?hs=a\nActiveBury: https://www.activebury.com/events/2261
URL:https://www.activebury.com/events/2261
END:VEVENT
END:VCALENDAR
