BEGIN:VCALENDAR
VERSION:2.0
PRODID:-//ActiveBury//Events//EN
CALSCALE:GREGORIAN
BEGIN:VEVENT
UID:event-2259@activebury.com
DTSTAMP:20260425T134005Z
SUMMARY:Crafty Saturday: Mother's Day
DTSTART:20260502T100000
DTEND:20260502T130000
LOCATION:Ocean Pines Branch Branch: Ocean Pines Branch Audience: 6 to 11 Birth to 5 Categories: Crafts
DESCRIPTION:Join us in celebrating all mothers by creating a special craft! Multiple crafts to choose from for a variety of ages. Ages 0-11 410-208-4014\nMore info: https://worcesterlibrary.libcal.com/event/15975208?hs=a\nActiveBury: https://www.activebury.com/events/2259
URL:https://www.activebury.com/events/2259
END:VEVENT
END:VCALENDAR
