BEGIN:VCALENDAR
VERSION:2.0
PRODID:-//ActiveBury//Events//EN
CALSCALE:GREGORIAN
BEGIN:VEVENT
UID:event-2257@activebury.com
DTSTAMP:20260425T134530Z
SUMMARY:Survival Spanish: Food
DTSTART:20260501T130000
DTEND:20260501T140000
LOCATION:Ocean Pines Large Meeting Room Branch: Ocean Pines Branch Audience: Adults Categories: Class/Workshop
DESCRIPTION:Ever wanted to learn another language? Now's your chance! Join us as we learn food vocabulary. 410-208-4014\nMore info: https://worcesterlibrary.libcal.com/event/15058009?hs=a\nActiveBury: https://www.activebury.com/events/2257
URL:https://www.activebury.com/events/2257
END:VEVENT
END:VCALENDAR
