BEGIN:VCALENDAR
VERSION:2.0
PRODID:-//ActiveBury//Events//EN
CALSCALE:GREGORIAN
BEGIN:VEVENT
UID:event-2255@activebury.com
DTSTAMP:20260425T164152Z
SUMMARY:OC Mahjong Club
DTSTART:20260501T103000
DTEND:20260501T123000
LOCATION:Ocean City Meeting Room Branch: Ocean City Branch Audience: Adults Categories: Games
DESCRIPTION:Join us for a fun morning of playing tile Mahjong. Feel free to bring your own tile set. All adults are welcome! 410-524-1818.\nMore info: https://worcesterlibrary.libcal.com/event/15885433?hs=a\nActiveBury: https://www.activebury.com/events/2255
URL:https://www.activebury.com/events/2255
END:VEVENT
END:VCALENDAR
