BEGIN:VCALENDAR
VERSION:2.0
PRODID:-//ActiveBury//Events//EN
CALSCALE:GREGORIAN
BEGIN:VEVENT
UID:event-2254@activebury.com
DTSTAMP:20260425T133428Z
SUMMARY:Playtime
DTSTART:20260501T100000
DTEND:20260501T110000
LOCATION:Ocean Pines Large Meeting Room Branch: Ocean Pines Branch Audience: Birth to 5 Categories: Games
DESCRIPTION:Join us for Playtime\, an in-person event for children aged birth to 5. Enjoy games and activities in the Ocean Pines Large Meeting Room.\nMore info: https://worcesterlibrary.libcal.com/event/13155880?hs=a\nActiveBury: https://www.activebury.com/events/2254
URL:https://www.activebury.com/events/2254
END:VEVENT
END:VCALENDAR
