BEGIN:VCALENDAR
VERSION:2.0
PRODID:-//ActiveBury//Events//EN
CALSCALE:GREGORIAN
BEGIN:VEVENT
UID:event-2251@activebury.com
DTSTAMP:20260425T133434Z
SUMMARY:Creativity Corner
DTSTART;VALUE=DATE:20260501
DTEND;VALUE=DATE:20260502
LOCATION:Berlin Branch Branch: Berlin Branch Audience: 12 to 18 Categories: STEM
DESCRIPTION:Students are invited to visit the Berlin Branch Creativity Corner to engage in STEAM-related projects and crafts. Activities change monthly! For ages 12-18. 410-641-0650.\nMore info: https://worcesterlibrary.libcal.com/event/16409935?hs=a\nActiveBury: https://www.activebury.com/events/2251
URL:https://www.activebury.com/events/2251
END:VEVENT
END:VCALENDAR
