BEGIN:VCALENDAR
VERSION:2.0
PRODID:-//ActiveBury//Events//EN
CALSCALE:GREGORIAN
BEGIN:VEVENT
UID:event-225@activebury.com
DTSTAMP:20260425T133307Z
SUMMARY:Villas at Avalon
DTSTART:20260223T120000
DTEND:20260223T124500
LOCATION:Bookmobile
DESCRIPTION:This event is in the "Everyone" group 12:00pm–12:45pm Everyone Bookmobile Offsite Event This event is in the "Everyone" group Feb 23 2026 Mon Villas at Avalon 12:00pm–12:45pm Bookmobile Please note you are looking at an event that has already happened. Bookmobile Everyone Troopers Way\nMore info: https://www.wicomicolibrary.org/event/villas-avalon-20350\nActiveBury: https://www.activebury.com/events/225
URL:https://www.activebury.com/events/225
END:VEVENT
END:VCALENDAR
