BEGIN:VCALENDAR
VERSION:2.0
PRODID:-//ActiveBury//Events//EN
CALSCALE:GREGORIAN
BEGIN:VEVENT
UID:event-224@activebury.com
DTSTAMP:20260425T133827Z
SUMMARY:Lighthouse Christian Childcare 1
DTSTART:20260223T110000
DTEND:20260223T114500
LOCATION:Bookmobile
DESCRIPTION:This event is in the "Everyone" group 11:00am–11:45am Everyone Bookmobile Offsite Event This event is in the "Everyone" group Feb 23 2026 Mon Lighthouse Christian Childcare 1 11:00am–11:45am Bookmobile Please note you are looking at an event that has already happened. Bookmobile Everyone 9181 Old Railroad. Rd. Hebron\nMore info: https://www.wicomicolibrary.org/event/lighthouse-christian-childcare-1-20341\nActiveBury: https://www.activebury.com/events/224
URL:https://www.activebury.com/events/224
END:VEVENT
END:VCALENDAR
