BEGIN:VCALENDAR
VERSION:2.0
PRODID:-//ActiveBury//Events//EN
CALSCALE:GREGORIAN
BEGIN:VEVENT
UID:event-2231@activebury.com
DTSTAMP:20260425T153441Z
SUMMARY:IRONMAN 70.3 Eagleman Triathlon
DTSTART:20260614T063000
DTEND:20260614T170000
LOCATION:Water St Cambridge \, MD 21613
DESCRIPTION:Watch triathletes from around the country and the globe take on an athletic challenge of a 70.3-mile triathlon. Athletes kick off with a 1.2-mile protected open water swim through the Choptank River\, then a 56-mile flat bike through the Blackwater National Wildlife Refuge. They end with a 13.1-mile run. The transitions and finish line all happen at Gerry Boyle Park at Great Marsh in Cambridge\, Maryland – a great spot for spectators.\nMore info: https://www.ironman.com/races/im703-eagleman\nActiveBury: https://www.activebury.com/events/2231
URL:https://www.activebury.com/events/2231
END:VEVENT
END:VCALENDAR
