BEGIN:VCALENDAR
VERSION:2.0
PRODID:-//ActiveBury//Events//EN
CALSCALE:GREGORIAN
BEGIN:VEVENT
UID:event-2230@activebury.com
DTSTAMP:20260425T133328Z
SUMMARY:Wildlife Adventures
DTSTART:20260630T140000
DTEND:20260630T150000
LOCATION:Crisfield Library\, 100 Collins St\, Crisfield\, MD 21817\, USA
DESCRIPTION:Grab your magnifying glass and get ready to dig up some wild secrets! Meet live animal friends up close and explore a table of furs\, bones\, and mystery artifacts.\nMore info: https://www.google.com/calendar/event?eid=NnJubTMzYnJtYTI2aTFjbTk4ZDhmYjJiOGsgc29tZWxpYnJhcnkub3JnX2poOHVvODQ2NmtvdjF2dGgzMzFlamUxdDdzQGc&ctz=America/New_York\nActiveBury: https://www.activebury.com/events/2230
URL:https://www.activebury.com/events/2230
END:VEVENT
END:VCALENDAR
