BEGIN:VCALENDAR
VERSION:2.0
PRODID:-//ActiveBury//Events//EN
CALSCALE:GREGORIAN
BEGIN:VEVENT
UID:event-2228@activebury.com
DTSTAMP:20260425T152849Z
SUMMARY:Wildlife Adventures
DTSTART:20260630T110000
DTEND:20260630T120000
LOCATION:Princess Anne Library\, 11767 Beechwood St\, Princess Anne\, MD 21853\, USA
DESCRIPTION:Join us for Wildlife Adventures\, where you can meet live animal friends and explore a table of furs\, bones\, and mystery artifacts.\nMore info: https://www.google.com/calendar/event?eid=NGkyY3ZrZ3RlZjhsYzVodHAzMnM2MDRqaXEgc29tZWxpYnJhcnkub3JnX3FraHB1Y2hxdDIxZWM4c2ljM2Z1OWNodmVvQGc&ctz=America/New_York\nActiveBury: https://www.activebury.com/events/2228
URL:https://www.activebury.com/events/2228
END:VEVENT
END:VCALENDAR
