BEGIN:VCALENDAR
VERSION:2.0
PRODID:-//ActiveBury//Events//EN
CALSCALE:GREGORIAN
BEGIN:VEVENT
UID:event-2223@activebury.com
DTSTAMP:20260425T133323Z
SUMMARY:GABE PROGRAM
DTSTART;VALUE=DATE:20260627
DTEND;VALUE=DATE:20260628
LOCATION:Crisfield Library\, 100 Collins St\, Crisfield\, MD 21817\, USA
DESCRIPTION:Join us to learn how to begin researching your family tree and the resources available for genealogy research. Registration required.\nMore info: https://www.google.com/calendar/event?eid=NHRhYWJ2NGhsYzY5bzYzOXVmNThpZG92ZXFfMjAyNjA2Mjcgc29tZWxpYnJhcnkub3JnX3FrczluaW8wa3JqYmlnNmphM2xvb2FyNm5zQGc&ctz=America/New_York\nActiveBury: https://www.activebury.com/events/2223
URL:https://www.activebury.com/events/2223
END:VEVENT
END:VCALENDAR
