BEGIN:VCALENDAR
VERSION:2.0
PRODID:-//ActiveBury//Events//EN
CALSCALE:GREGORIAN
BEGIN:VEVENT
UID:event-2212@activebury.com
DTSTAMP:20260425T142931Z
SUMMARY:Extreme Balloons
DTSTART:20260623T110000
DTEND:20260623T120000
LOCATION:Princess Anne Library\, 11767 Beechwood St\, Princess Anne\, MD 21853\, USA
DESCRIPTION:Join us for 'Extreme Balloons'\, a unique show with magic\, puppets\, and balloons featuring Steve and his duck puppet Scrappy\, sharing important life lessons.\nMore info: https://www.google.com/calendar/event?eid=MTcwYmJlN3ZoODZzdHBvcjNyYm80MGh1OW8gc29tZWxpYnJhcnkub3JnX3FraHB1Y2hxdDIxZWM4c2ljM2Z1OWNodmVvQGc&ctz=America/New_York\nActiveBury: https://www.activebury.com/events/2212
URL:https://www.activebury.com/events/2212
END:VEVENT
END:VCALENDAR
