BEGIN:VCALENDAR
VERSION:2.0
PRODID:-//ActiveBury//Events//EN
CALSCALE:GREGORIAN
BEGIN:VEVENT
UID:event-2211@activebury.com
DTSTAMP:20260425T133431Z
SUMMARY:S.T.E.A.M.-
DTSTART:20260622T140000
DTEND:20260622T150000
LOCATION:Princess Anne Library\, 11767 Beechwood St\, Princess Anne\, MD 21853\, USA
DESCRIPTION:Educational fun for kids of every age!\n\nToday's STEAM:\nMore info: https://www.google.com/calendar/event?eid=NnFya2hzOTQ0a3BiZGhoM2syamRtbnBqZTJfMjAyNjA2MjJUMTgwMDAwWiBzb21lbGlicmFyeS5vcmdfcWtocHVjaHF0MjFlYzhzaWMzZnU5Y2h2ZW9AZw&ctz=America/New_York\nActiveBury: https://www.activebury.com/events/2211
URL:https://www.activebury.com/events/2211
END:VEVENT
END:VCALENDAR
