BEGIN:VCALENDAR
VERSION:2.0
PRODID:-//ActiveBury//Events//EN
CALSCALE:GREGORIAN
BEGIN:VEVENT
UID:event-221@activebury.com
DTSTAMP:20260425T134546Z
SUMMARY:Lighthouse Christian Childcare 2
DTSTART:20260223T101500
DTEND:20260223T104500
LOCATION:Bookmobile
DESCRIPTION:This event is in the "Everyone" group 10:15am–10:45am Everyone Bookmobile Offsite Event This event is in the "Everyone" group Feb 23 2026 Mon Lighthouse Christian Childcare 2 10:15am–10:45am Bookmobile Please note you are looking at an event that has already happened. Bookmobile Everyone 26550 Ocean Gateway\nMore info: https://www.wicomicolibrary.org/event/lighthouse-christian-childcare-2-20332\nActiveBury: https://www.activebury.com/events/221
URL:https://www.activebury.com/events/221
END:VEVENT
END:VCALENDAR
