BEGIN:VCALENDAR
VERSION:2.0
PRODID:-//ActiveBury//Events//EN
CALSCALE:GREGORIAN
BEGIN:VEVENT
UID:event-2209@activebury.com
DTSTAMP:20260425T133847Z
SUMMARY:ADULT CRAFT
DTSTART;VALUE=DATE:20260622
DTEND;VALUE=DATE:20260623
LOCATION:Crisfield Library\, 100 Collins St\, Crisfield\, MD 21817\, USA
DESCRIPTION:Join us to decorate a unique glass candle holder using various materials. Registration required.\nMore info: https://www.google.com/calendar/event?eid=NDdsdWI2NzM4aTFtMThtaGU5MGN0dXVlNTEgc29tZWxpYnJhcnkub3JnX3FrczluaW8wa3JqYmlnNmphM2xvb2FyNm5zQGc&ctz=America/New_York\nActiveBury: https://www.activebury.com/events/2209
URL:https://www.activebury.com/events/2209
END:VEVENT
END:VCALENDAR
