BEGIN:VCALENDAR
VERSION:2.0
PRODID:-//ActiveBury//Events//EN
CALSCALE:GREGORIAN
BEGIN:VEVENT
UID:event-2207@activebury.com
DTSTAMP:20260425T133948Z
SUMMARY:Lego Club-
DTSTART:20260620T140000
DTEND:20260620T160000
LOCATION:Princess Anne Library\, 11767 Beechwood St\, Princess Anne\, MD 21853\, USA
DESCRIPTION:Come out and complete our Lego challenges!\n\nTodays challenge:\nMore info: https://www.google.com/calendar/event?eid=MDdha3AzY2o2a25vbnA4bGs3MzYxaHRqNHFfMjAyNjA2MjBUMTgwMDAwWiBzb21lbGlicmFyeS5vcmdfcWtocHVjaHF0MjFlYzhzaWMzZnU5Y2h2ZW9AZw&ctz=America/New_York\nActiveBury: https://www.activebury.com/events/2207
URL:https://www.activebury.com/events/2207
END:VEVENT
END:VCALENDAR
