BEGIN:VCALENDAR
VERSION:2.0
PRODID:-//ActiveBury//Events//EN
CALSCALE:GREGORIAN
BEGIN:VEVENT
UID:event-2197@activebury.com
DTSTAMP:20260425T133310Z
SUMMARY:Book Discussion
DTSTART:20260617T140000
DTEND:20260617T150000
LOCATION:11767 Beechwood St\, Princess Anne\, MD 21853\, USA
DESCRIPTION:Join our book club! Current copies of each month's title will be available at the circulation desk.\nMore info: https://somelibrary.org/\nActiveBury: https://www.activebury.com/events/2197
URL:https://www.activebury.com/events/2197
END:VEVENT
END:VCALENDAR
