BEGIN:VCALENDAR
VERSION:2.0
PRODID:-//ActiveBury//Events//EN
CALSCALE:GREGORIAN
BEGIN:VEVENT
UID:event-2195@activebury.com
DTSTAMP:20260425T133326Z
SUMMARY:Gaming
DTSTART:20260616T160000
DTEND:20260616T180000
LOCATION:Crisfield Library
DESCRIPTION:Get your game on with the Switch\, Xbox\, laptops\, tabletop games and more! Drop-in sessions are also available for Xbox\, please see the front desk. 4:00-6:00pm\nMore info: https://somelibrary.org/\nActiveBury: https://www.activebury.com/events/2195
URL:https://www.activebury.com/events/2195
END:VEVENT
END:VCALENDAR
