BEGIN:VCALENDAR
VERSION:2.0
PRODID:-//ActiveBury//Events//EN
CALSCALE:GREGORIAN
BEGIN:VEVENT
UID:event-2192@activebury.com
DTSTAMP:20260425T133301Z
SUMMARY:TIDAL HEALTH PROGRAM
DTSTART;VALUE=DATE:20260616
DTEND;VALUE=DATE:20260617
DESCRIPTION:More info: https://www.google.com/calendar/event?eid=MTZzMnVzNmdyMWJyNDMxMHZxbHVjMm9iOGhfMjAyNjA2MTYgc29tZWxpYnJhcnkub3JnX3FrczluaW8wa3JqYmlnNmphM2xvb2FyNm5zQGc&ctz=America/New_York\nActiveBury: https://www.activebury.com/events/2192
URL:https://www.activebury.com/events/2192
END:VEVENT
END:VCALENDAR
